BEGIN:VCALENDAR
VERSION:2.0
PRODID:icalendar-ruby
CALSCALE:GREGORIAN
METHOD:PUBLISH
BEGIN:VTIMEZONE
TZID:Australia/Brisbane
BEGIN:STANDARD
DTSTART:19920301T020000
TZOFFSETFROM:+1100
TZOFFSETTO:+1000
TZNAME:AEST
END:STANDARD
END:VTIMEZONE
BEGIN:VEVENT
DTSTAMP:20260424T114723Z
UID:inspection_3012677
DTSTART;TZID=Australia/Brisbane:20260428T163000
DTEND;TZID=Australia/Brisbane:20260428T164500
CLASS:PUBLIC
CREATED:20260424T144835
DESCRIPTION: 
LAST-MODIFIED:20260424T144835
LOCATION:4 / 30 Brisbane St\, TOOWONG QLD 4066\, Australia
SUMMARY:4 / 30 Brisbane St\,  Inspection
URL;VALUE=URI:https://disher.com.au
END:VEVENT
END:VCALENDAR
