BEGIN:VCALENDAR
VERSION:2.0
PRODID:icalendar-ruby
CALSCALE:GREGORIAN
METHOD:PUBLISH
BEGIN:VTIMEZONE
TZID:Australia/Brisbane
BEGIN:STANDARD
DTSTART:19920301T020000
TZOFFSETFROM:+1100
TZOFFSETTO:+1000
TZNAME:AEST
END:STANDARD
END:VTIMEZONE
BEGIN:VEVENT
DTSTAMP:20260422T102013Z
UID:inspection_3007968
DTSTART;TZID=Australia/Brisbane:20260422T164500
DTEND;TZID=Australia/Brisbane:20260422T170000
CLASS:PUBLIC
CREATED:20260421T161909
DESCRIPTION: 
LAST-MODIFIED:20260421T161909
LOCATION:3 / 32 Beatrice Street\, TARINGA QLD 4068\, Australia
SUMMARY:3 / 32 Beatrice Street\,  Inspection
URL;VALUE=URI:https://disher.com.au
END:VEVENT
END:VCALENDAR
